BEGIN:VCALENDAR
VERSION:2.0
PRODID:-//Plone.org//NONSGML plone.app.event//EN
X-WR-TIMEZONE:US/Eastern
BEGIN:VEVENT
SUMMARY:Intro to Watercolor
DTSTART;TZID=US/Eastern:20260420T130000
DTEND;TZID=US/Eastern:20260420T143000
DTSTAMP:20260420T093029Z
UID:09d2eef334e546878dbd9fcf646239e5@saas_stack_varnish:6080
ATTENDEE;CN="Open to adults all skill levels welcome";ROLE=REQ-PARTICIPANT
 :Open to adults all skill levels welcome
CONTACT:Gayle\, 810-359-8267\, moorelibrary.lex@gmail.com
CREATED:20260323T150854Z
DESCRIPTION:Join artist Christine in learning the basics and new technique
 s of watercolor.  You will create your very own painting. Registration Req
 uired.
LAST-MODIFIED:20260401T142330Z
LOCATION:MPL Community Room
URL:https://www.moorepubliclibrary.org/intro-to-watercolor
END:VEVENT
BEGIN:VEVENT
SUMMARY:Intro to Watercolor Evening Class
DTSTART;TZID=US/Eastern:20260420T180000
DTEND;TZID=US/Eastern:20260420T193000
DTSTAMP:20260420T093029Z
UID:f993d63dddcb4e62a4d5b6adf86d694b@saas_stack_varnish:6080
ATTENDEE;CN="Open to adults. All skill levels welcome.";ROLE=REQ-PARTICIPA
 NT:Open to adults. All skill levels welcome.
CONTACT:Gayle\, 810-359-8267\, moorelibrary.lex@gmail.com
CREATED:20260323T162509Z
DESCRIPTION:Join artist Christine in learning the basic and new techniques
  of watercolor.  Create your very own painting. Registration Required.
LAST-MODIFIED:20260401T142412Z
LOCATION:MPL Community Room
URL:https://www.moorepubliclibrary.org/intro-to-watercolor-evening-class
END:VEVENT
BEGIN:VTIMEZONE
TZID:US/Eastern
X-LIC-LOCATION:US/Eastern
BEGIN:DAYLIGHT
DTSTART:20260308T030000
TZNAME:EDT
TZOFFSETFROM:-0500
TZOFFSETTO:-0400
END:DAYLIGHT
END:VTIMEZONE
END:VCALENDAR
