BEGIN:VCALENDAR
VERSION:2.0
PRODID:-//Plone.org//NONSGML plone.app.event//EN
X-WR-TIMEZONE:US/Eastern
BEGIN:VEVENT
SUMMARY:PLANT PROPAGATION WORKSHOP
DTSTART;TZID=US/Eastern:20260421T140000
DTEND;TZID=US/Eastern:20260421T150000
DTSTAMP:20260421T085005Z
UID:36963c92b4034d808f85d43a1e59c23d@saas_stack_varnish:6080
ATTENDEE;CN="Open to public - no cost - no registration";ROLE=REQ-PARTICIP
 ANT:Open to public - no cost - no registration
CONTACT:Gayle\, 810-359-8267\, moorelibrary.lex@gmail.com
CREATED:20260320T192746Z
DESCRIPTION:Join Merry & Lew for tips & tricks on how to successfully prop
 agate house plants.   No cost - seating is limited - please pre-register.
LAST-MODIFIED:20260402T182546Z
LOCATION:Moore Public Library Community Room
URL:https://www.moorepubliclibrary.org/plant-propagation-workshop
END:VEVENT
BEGIN:VEVENT
SUMMARY:AUTHOR - JOHN BORKOVICH
DTSTART;TZID=US/Eastern:20260421T183000
DTEND;TZID=US/Eastern:20260421T203000
DTSTAMP:20260421T085005Z
UID:649706ba3a444e5495dc1afa6a3c1501@saas_stack_varnish:6080
ATTENDEE;CN="Open to the public.";ROLE=REQ-PARTICIPANT:Open to the public.
CONTACT:Gayle\, 810-359-8267\, moorelibrary.lex@gmail.com
CREATED:20260320T192152Z
LAST-MODIFIED:20260320T192210Z
LOCATION:Moore Public Library Community Room
URL:https://www.moorepubliclibrary.org/national-library-week/author-john-b
 orkovich
END:VEVENT
BEGIN:VTIMEZONE
TZID:US/Eastern
X-LIC-LOCATION:US/Eastern
BEGIN:DAYLIGHT
DTSTART:20260308T030000
TZNAME:EDT
TZOFFSETFROM:-0500
TZOFFSETTO:-0400
END:DAYLIGHT
END:VTIMEZONE
END:VCALENDAR
