BEGIN:VCALENDAR
VERSION:2.0
PRODID:-//Plone.org//NONSGML plone.app.event//EN
X-WR-TIMEZONE:US/Eastern
BEGIN:VEVENT
SUMMARY:Slow Saturday
DTSTART;TZID=US/Eastern:20260516T103000
DTEND;TZID=US/Eastern:20260516T123000
DTSTAMP:20260419T131006Z
UID:5fa97e96310f4b539d3791439752cbaa@saas_stack_varnish:6080
RRULE:FREQ=MONTHLY;COUNT=7;BYDAY=+3SA
ATTENDEE;CN="Anyone wanting a break for awhile.";ROLE=REQ-PARTICIPANT:Anyo
 ne wanting a break for awhile.
CONTACT:Gayle Phillips\, 810-359-8267\, gaplibrary25@gmail.com
CREATED:20240909T172738Z
DESCRIPTION:For adults wanting to Relax ~ Unwind ~ Craft. Crafting project
 s are available or bring your own. No cost.
LAST-MODIFIED:20260128T171224Z
LOCATION:MPL Community Room
URL:https://www.moorepubliclibrary.org/news-events/events/adult-coloring-c
 offee
END:VEVENT
BEGIN:VTIMEZONE
TZID:US/Eastern
X-LIC-LOCATION:US/Eastern
BEGIN:DAYLIGHT
DTSTART:20260308T030000
TZNAME:EDT
TZOFFSETFROM:-0500
TZOFFSETTO:-0400
END:DAYLIGHT
END:VTIMEZONE
END:VCALENDAR
