BEGIN:VCALENDAR
VERSION:2.0
PRODID:-//Plone.org//NONSGML plone.app.event//EN
X-WR-TIMEZONE:US/Eastern
BEGIN:VEVENT
SUMMARY:Rather Be Reading Book Club
DTSTART;TZID=US/Eastern:20260507T180000
DTEND;TZID=US/Eastern:20260507T190000
DTSTAMP:20260419T131155Z
UID:6427c4c4de5d4034bebb84103b405f0a@saas_stack_varnish:6080
ATTENDEE;CN="Free and open to the public.  ";ROLE=REQ-PARTICIPANT:Free and
  open to the public.  
CONTACT:Gayle Phillips\, 810-359-8267\, moorelibrary.lex@gmail.com
CREATED:20240909T174218Z
DESCRIPTION:Exciting evening with award winning author Sherry A. Burton. E
 veryone is welcome.
LAST-MODIFIED:20260402T171517Z
LOCATION:Moore Public Library
URL:https://www.moorepubliclibrary.org/news-events/events/rather-be-readin
 g-book-club
END:VEVENT
BEGIN:VTIMEZONE
TZID:US/Eastern
X-LIC-LOCATION:US/Eastern
BEGIN:DAYLIGHT
DTSTART:20260308T030000
TZNAME:EDT
TZOFFSETFROM:-0500
TZOFFSETTO:-0400
END:DAYLIGHT
END:VTIMEZONE
END:VCALENDAR
